BEGIN:VCALENDAR
VERSION:2.0
PRODID:-//Soul Quest ~ Where Inner Journeys Meet Ancient Wisdom ~ - ECPv6.15.20//NONSGML v1.0//EN
CALSCALE:GREGORIAN
METHOD:PUBLISH
X-ORIGINAL-URL:https://soulquest.one
X-WR-CALDESC:Events for Soul Quest ~ Where Inner Journeys Meet Ancient Wisdom ~
REFRESH-INTERVAL;VALUE=DURATION:PT1H
X-Robots-Tag:noindex
X-PUBLISHED-TTL:PT1H
BEGIN:VTIMEZONE
TZID:UTC
BEGIN:STANDARD
TZOFFSETFROM:+0000
TZOFFSETTO:+0000
TZNAME:UTC
DTSTART:20240101T000000
END:STANDARD
END:VTIMEZONE
BEGIN:VEVENT
DTSTART;VALUE=DATE:20250510
DTEND;VALUE=DATE:20250512
DTSTAMP:20260422T113030
CREATED:20250421T144842Z
LAST-MODIFIED:20250503T145443Z
UID:3170-1746835200-1747007999@soulquest.one
SUMMARY:Soul Quest: Βουτιά στο Άγνωστο
DESCRIPTION:Πανσεληνός Wesak\nΜικρή Τζένα\, Αλμωπία\n\nΑυτό το Soul Quest είναι μια πρόσκληση να συνδεθείς βαθιά με τον εαυτό σου\, τη φύση και τις ενέργειες της Πανσελήνου στις 12 Μαιου. Η Πανσεληνος του Wesak ( ή του Βουδα ή του Ταυρου) είναι μια ιερή στιγμή μύησης\, άνθισης και μεταμόρφωσης που συμβαινει μέσα στην καρδιά της άνοιξης και κοντά στη γιορτή της Μητέρας. Με όλες αυτές τις ενέργειες να συμβαίνουν ταυτόχρονα\, θα συναντηθούμε στη Τζένα. Πριν από έξι χρόνια\, κάτω από την ίδια Πανσέληνο\, ξεκίνησα το ίδιο Soul Quest βάζοντας πρόθεση την υπέρβαση. Ήταν ένα ταξίδι που μου αποκάλυψε αλήθειες και έφερε βαθιές αλλαγές στη ζωή μου. Τώρα το ανοίγω προς τα έξω — για εκείνους που θα επιλέξουν να ζήσουν τη δική τους εμπειρία.✨ \nΜέσα από σαμανιστική προσέγγιση\, θα χρησιμοποιήσουμε:\n• Το σώμα μας\, τις ενέργειες της Γης και της Σελήνης για να συνδεθούμε με το εσωτερικό μας καταφύγιο.\n•  Τον διαλογισμό και την επίγνωση για να συναντήσουμε τον εσωτερικό μας παρατηρητή.\n• Προσωπική και ομαδική ενδοσκόπηση\, με μοίρασμα στον κύκλο της ομάδας.\n• Μια τελετή κάθαρσης (αν οι συνθήκες το επιτρέψουν)\, για να απελευθερώσουμε ό\,τι μας κρατά πίσω. \nΑναζητάς Αλλαγή; \n Νιώθεις ότι:  \n• Κινείσαι σε κύκλους γύρω από τα ίδια παρόλο που έχεις δοκιμάσει πολλά;\n• Ότι δεν ξέρεις προς τα που να πας;\n• Φοβάσαι το άγνωστο\, αλλά ταυτόχρονα \n  νιώθεις την ανάγκη να το εξερευνήσεις; \nΑν ναι\, ήρθε η ώρα να κάνεις  τη δική σου Βουτιά στο Άγνωστο!\n• Απελευθερώσου από παλιά μοτίβα. \n• Βρες το εσωτερικό σου κέντρο. \n• Ανακάλυψε νέες κατευθύνσεις στην ζωή σου. \nΈνα ταξίδι  βιωματικής αυτογνωσίας \nΠληροφορίες\n+30. 6979-443943
URL:https://soulquest.one/event/soul-quest-%ce%b2%ce%bf%cf%85%cf%84%ce%b9%ce%ac-%cf%83%cf%84%ce%bf-%ce%ac%ce%b3%ce%bd%cf%89%cf%83%cf%84%ce%bf/
CATEGORIES:Soul Quest EL
ATTACH;FMTTYPE=image/png:https://soulquest.one/wp-content/uploads/2025/04/wesak-retreat.png
END:VEVENT
END:VCALENDAR